BEGIN:VCALENDAR
VERSION:2.0
PRODID:-//https://parcsindustriels.ca///NONSGML kigkonsult.se iCalcreator 2.10.15//
METHOD:PUBLISH
BEGIN:VEVENT
UID:20260424T010037EDT-0967rl69pv@https://parcsindustriels.ca/
DTSTAMP:20260424T050037Z
DESCRIPTION:\nSite Internet officiel de l'entreprise :Ateliers du Carnaval 
 de Québec\n\nZone industrielle du Colisée\n\nInvitation à l’occasion du Re
 ndez-vous des présidents et hauts dirigeants inter-parcs industriels\nM. P
 ierre Dolbec\, président\, directeur général de la Corporation des parcs i
 ndustriels vous invite à un cocktail Sous la présidence d’honneur du Bonho
 mme Carnaval.\nQuand : Mardi 26 mai 2026Cocktail : 17 h à 19 hLieu : 2205\
 , boulevard des Cèdres\, Québec\, Québec\, G1L 1N8\nRSVP avant le 22 mai 2
 026Téléphone : 1 855 222-2102info@parcsindustriels.ca\n\n\n\n\n\n\nBonhomm
 e Carnaval\n\n\n\n https://parcsindustriels.ca/index.php/evenements/evenem
 ents-cpi/evenements-2026/evenement/45-ateliers-du-carnaval-de-quebec
DTSTART:20260526T210000Z
DTEND:20260526T230000Z
LOCATION:LES ATELIERS DU CARNAVAL (205 Bd des Cèdres\, Québec\, QC G1L 1N8\
 , Canada)
SUMMARY:Ateliers du Carnaval de Québec
URL:https://parcsindustriels.ca/index.php/evenements/evenements-cpi/eveneme
 nts-2026/evenement/45-ateliers-du-carnaval-de-quebec
END:VEVENT
BEGIN:VEVENT
UID:20260424T010037EDT-0976UU3k37@https://parcsindustriels.ca/
DTSTAMP:20260424T050037Z
DESCRIPTION:\nSite Internet officiel de l'entreprise :Les Plastiques Laird
 \n\nParc industriel Armand-Viau\n\nInvitation à l’occasion du Rendez-vous 
 des présidents et hauts dirigeants inter-parcs industriels\nM. Pierre Dolb
 ec\, président\, directeur général de la Corporation des parcs industriels
  vous invite à un cocktail Sous la présidence d’honneur de M. David Welsh\
 , directeur général des Plastiques Laird.\nQuand : Mardi 22 septembre 2026
 Cocktail : 17 h à 19 hLieu : 6330\, Rue Zéphirin-Paquet\, Suite # 200\, Qu
 ébec\, QC. G2C 0M3\nRSVP avant le 18 septembre 2026Téléphone : 1 855 222-2
 102info@parcsindustriels.ca\n\n\n\n\n\n\nM. David Welsh\nDirecteur général
 LES PLASTIQUES LAIRD\n\n\n\n\n https://parcsindustriels.ca/index.php/evene
 ments/evenements-cpi/evenements-2026/evenement/46-les-plastiques-laird
DTSTART:20260922T210000Z
DTEND:20260922T230000Z
LOCATION:Les Plastiques Laird (6330 Rue Zéphirin-Paquet\, Québec\, QC G2C 0
 M3\, Canada)
SUMMARY:Les Plastiques Laird
URL:https://parcsindustriels.ca/index.php/evenements/evenements-cpi/eveneme
 nts-2026/evenement/46-les-plastiques-laird
END:VEVENT
BEGIN:VEVENT
UID:20260424T010037EDT-0984IHIk4n@https://parcsindustriels.ca/
DTSTAMP:20260424T050037Z
DESCRIPTION:\nSite Internet officiel de l'entreprise :ELEVEX\n\nParc indust
 riel Beauport\n\nInvitation à l’occasion du Rendez-vous des présidents et 
 hauts dirigeants inter-parcs industriels\nM. Pierre Dolbec\, président\, d
 irecteur général de la Corporation des parcs industriels vous invite à un 
 cocktail Sous la présidence d’honneur de M. Martin Roy\, directeur de succ
 ursale ELEVEX.\nQuand : Mardi 27 octobre 2026Cocktail : 17 h à 19 hLieu : 
 1279\, rue Paul-Émile Giroux\, Suite 200\, Québec (Québec)  G1C 0K9\nRSVP 
 avant le 23 octobre 2026Téléphone : 1 855 222-2102info@parcsindustriels.ca
 \n\n\n\n\n\n\nM. Martin Roy\nDirecteur de succursaleELEVEX\n\n\n\n\n https
 ://parcsindustriels.ca/index.php/evenements/evenements-cpi/evenements-2026
 /evenement/47-elevex
DTSTART:20261027T210000Z
DTEND:20261027T230000Z
LOCATION:ELEVEX (1279 Rue Paul-Émile-Giroux #200\, Québec\, QC G1C 8A3\, Ca
 nada)
SUMMARY:ELEVEX
URL:https://parcsindustriels.ca/index.php/evenements/evenements-cpi/eveneme
 nts-2026/evenement/47-elevex
END:VEVENT
BEGIN:VEVENT
UID:20260424T010037EDT-0991eGjDUb@https://parcsindustriels.ca/
DTSTAMP:20260424T050037Z
DESCRIPTION:\n\nParc industriel CARDINAL\n\nLes entreprises des parcs indus
 triels représentent un potentiel important pour renforcer la canopée urbai
 ne et améliorer les milieux de travail.\nLe Collectif Canopée vous invite 
 à un 5 à 7\, organisé en collaboration avec la Corporation des parcs indus
 triels et la Coopérative funéraire des Deux Rives\, pour découvrir des pro
 jets de verdissement réalisés avec des entreprises locales et dévoiler le 
 potentiel de verdissement des parcs industriels de Québec.\nQuand : 19 mai
  2026Cocktail : 17 h à 19 hLieu : Coopérative funéraire des Deux Rives : 4
 65 Av. Godin\, Québec\, QC G1M 3G7\nNote: Il est possible pour les invités
  de se garer sur le stationnement de EXFO au 400 Av. Godin\, Québec.\nTélé
 phone : 1 855 222-2102info@parcsindustriels.ca https://parcsindustriels.ca
 /index.php/evenements/evenements-cpi/evenements-2026/evenement/48-collecti
 f-canopee-verdir-les-parcs-industriels-de-quebec
DTSTART:20260519T210000Z
DTEND:20260519T230000Z
LOCATION:Coopérative funéraire des Deux Rives (465 Av. Godin\, Québec\, QC 
 G1M 3G7\, Canada)
SUMMARY:COLLECTIF CANOPÉE - Verdir les parcs industriels de Québec
URL:https://parcsindustriels.ca/index.php/evenements/evenements-cpi/eveneme
 nts-2026/evenement/48-collectif-canopee-verdir-les-parcs-industriels-de-qu
 ebec
END:VEVENT
END:VCALENDAR
